BEGIN:VCALENDAR
VERSION:2.0
PRODID:-//NHM Schweiz - ECPv6.15.18//NONSGML v1.0//EN
CALSCALE:GREGORIAN
METHOD:PUBLISH
X-WR-CALNAME:NHM Schweiz
X-ORIGINAL-URL:https://nothinghidden.ch
X-WR-CALDESC:Veranstaltungen für NHM Schweiz
REFRESH-INTERVAL;VALUE=DURATION:PT1H
X-Robots-Tag:noindex
X-PUBLISHED-TTL:PT1H
BEGIN:VTIMEZONE
TZID:Europe/Berlin
BEGIN:DAYLIGHT
TZOFFSETFROM:+0100
TZOFFSETTO:+0200
TZNAME:CEST
DTSTART:20240331T010000
END:DAYLIGHT
BEGIN:STANDARD
TZOFFSETFROM:+0200
TZOFFSETTO:+0100
TZNAME:CET
DTSTART:20241027T010000
END:STANDARD
BEGIN:DAYLIGHT
TZOFFSETFROM:+0100
TZOFFSETTO:+0200
TZNAME:CEST
DTSTART:20250330T010000
END:DAYLIGHT
BEGIN:STANDARD
TZOFFSETFROM:+0200
TZOFFSETTO:+0100
TZNAME:CET
DTSTART:20251026T010000
END:STANDARD
BEGIN:DAYLIGHT
TZOFFSETFROM:+0100
TZOFFSETTO:+0200
TZNAME:CEST
DTSTART:20260329T010000
END:DAYLIGHT
BEGIN:STANDARD
TZOFFSETFROM:+0200
TZOFFSETTO:+0100
TZNAME:CET
DTSTART:20261025T010000
END:STANDARD
BEGIN:DAYLIGHT
TZOFFSETFROM:+0100
TZOFFSETTO:+0200
TZNAME:CEST
DTSTART:20270328T010000
END:DAYLIGHT
BEGIN:STANDARD
TZOFFSETFROM:+0200
TZOFFSETTO:+0100
TZNAME:CET
DTSTART:20271031T010000
END:STANDARD
BEGIN:DAYLIGHT
TZOFFSETFROM:+0100
TZOFFSETTO:+0200
TZNAME:CEST
DTSTART:20280326T010000
END:DAYLIGHT
BEGIN:STANDARD
TZOFFSETFROM:+0200
TZOFFSETTO:+0100
TZNAME:CET
DTSTART:20281029T010000
END:STANDARD
END:VTIMEZONE
BEGIN:VEVENT
DTSTART;VALUE=DATE:20250816
DTEND;VALUE=DATE:20260531
DTSTAMP:20260420T124402
CREATED:20250605T110421Z
LAST-MODIFIED:20250806T193932Z
UID:1799-1755302400-1780185599@nothinghidden.ch
SUMMARY:Love After Marriage - DVD Workshop Burgdorf
DESCRIPTION:LIEBE IN DER EHE – LOVE AFTER MARRIAGE\nDieser Workshop hat als Ziel\, Ehepaare in eine Beziehung hineinzuführen\, die sich durch Offenheit\, Innigkeit und Liebe auszeichnet. Auch gesunde Ehen erhalten hilfreiche Schlüssel\, um mit der Hilfe des Heiligen Geistes gemeinsam in neue Dimensionen vorzudringen. \nTAG / ZEIT / RHYTHMUS\nMontag / 19:30 – 21:30 Uhr\nDaten 25.8.25\, 8.9.25\, 20.10.25\, 3.11.25\, 17.11.25\, 1.12.25\, 15.12.25\, 19.1.26\, 2.2.26\, 23.2.26\, 9.3.26\, 23.3.26\, 27.4.26\, 11.5.26\nEinstiegstag Samstag\, 16.08.2025\nAbschlusstag Samstag\, 30.05.2026 \nTEILNEHMER\nmax. 9 Ehepaare \nAnmeldung und Infos\nDer Workshop findet im Raum 60 in der Pfimi Burgdorf statt. Anmeldung erfolgt auf ihrer Webseite über diesen Link Anmeldung DVD Workshop Burgdorf
URL:https://nothinghidden.ch/index.php/event/love-after-marriage-dvd-workshop-burgdorf/
LOCATION:Pfimi Burgdorf\, Dammstrasse 60\, Burgdorf\, BE\, 3400\, Switzerland
CATEGORIES:LAM DVD Workshops
ATTACH;FMTTYPE=image/jpeg:https://nothinghidden.ch/wp-content/uploads/2025/06/NHM-LAm-DVD.jpeg
ORGANIZER;CN="NHM Schweiz":MAILTO:events@nothinghidden.ch
END:VEVENT
BEGIN:VEVENT
DTSTART;TZID=Europe/Berlin:20251124T193000
DTEND;TZID=Europe/Berlin:20260615T211500
DTSTAMP:20260420T124402
CREATED:20250712T155845Z
LAST-MODIFIED:20260415T174348Z
UID:1815-1764012600-1781558100@nothinghidden.ch
SUMMARY:LAM Pushups
DESCRIPTION:LAM-PushUps (Online)\nIhr habt im LAM-Workshop viel mit Gott erlebt\, habt Heilung und Veränderung erfahren dürfen. Vielleicht habt ihr euch neue Gewohnheiten angeeignet und möchtet diese Freiheit unbedingt festhalten und weiter vorwärts gehen. Darin möchten wir euch sehr gerne unterstützen. \nWir bieten euch einmal pro Monat einen LAM-PushUp Abend an. Hier sollen die Paare unterstützt werden dran zu bleiben und immer «fitter» zu werden. Wir frischen einmal pro Monat ausgewählte Lektionen oder Tools auf und vertiefen sie. Es erwarten euch Inputs\, Gruppen-\, Paar- oder Einzelarbeiten. Ihr könnt als Ehepaar oder auch als Kleingruppe aus eurem LAM-Kurs gemeinsam teilnehmen. \nTermine\nJeweils Montag\, 19:30 bis 21:15 Uhr\, via Zoom:\n18. Mai 2026\n15. Juni 2026\n17. August 2026\n21. September 2026\n19. Oktober 2026\n23. November 2026\n11. Januar 2027 \nDer Einstieg ist jederzeit möglich. \nBei Interesse oder Fragen\nIhr könnt Euch gerne bei Madeleine und Felix unter pushup@nothinghidden.de melden.\nIhr könnt Euch auf eine Liste setzen lassen\, dann bekommt ihr jedes Mal eine Erinnerungs-Mail mit dem Teilnahme-Link. Ihr braucht euch für die einzelnen Termine nicht an- oder abzumelden. \nDie Teilnahme ist kostenlos. \nEin Flyer steht hier zum Download bereit.
URL:https://nothinghidden.ch/index.php/event/lam-pushups/
LOCATION:Online
CATEGORIES:LAM (Liebe in der Ehe),LAM Intensiv Workshops (1 & 2),LAM Online-Workshop (wöchentlich),Specials
ATTACH;FMTTYPE=image/jpeg:https://nothinghidden.ch/wp-content/uploads/2025/07/LAM-Pushups-Webseite.jpg
ORGANIZER;CN="Madeleine und Felix":MAILTO:lam.pushups@gmx.ch
END:VEVENT
BEGIN:VEVENT
DTSTART;TZID=Europe/Berlin:20260126T193000
DTEND;TZID=Europe/Berlin:20260427T215000
DTSTAMP:20260420T124402
CREATED:20250915T193816Z
LAST-MODIFIED:20251213T140603Z
UID:1863-1769455800-1777326600@nothinghidden.ch
SUMMARY:LAM1 Multiplikatoren-Training 2026
DESCRIPTION:LAM1 MULTIPLIKATOREN-TRAINING\nPraktische Schritte\, um in eure Berufung zu kommen\nIhr sehnt euch als Ehepaar danach\, nicht nur in eurer Ehe auf eine neue Stufe zu kommen\, sondern auch zusammen einen Unterschied in dieser Welt zu machen und das\, was ihr selbst erlebt habt\, wieder an andere weiterzugeben? Oder ihr spielt mit dem Gedanken\, in eurer Gemeinde\, eurem persönlichen Umfeld oder mit anderen Ehepaaren einen wöchentlichen LAM-Workshop durchzuführen? \nWir freuen uns das Multiplikatoren-Training für den LAM1 DVD-Workshop vorzustellen. Unser Ziel ist es\, euch zu befähigen\, Botschafter für andere Ehepaare zu werden\, damit Verbundenheit und himmlische Beziehungskultur in Ehe und Familie in eurer Gemeinde erlebbar wird. \nZiel des Trainings\n• Ein praxisnahes Training für euch als Leiter\, das euch hilft\, die himmlische Beziehungskultur durch den LAM-Workshop in eure Gemeinde zu bringen\n• Ein vertieftes Kennenlernen und Verstehen der Kultur und Kernwerte\, die dem Kurs zugrunde liegen\n• Wachstum in deiner eigenen Beziehung zu Gott\, in deinem Leben und in eurer Ehe\, d. h. Kursinhalte werden noch mehr als Lebensstil eingeübt\n• Klärung praktischer Fragen rund um die Durchführung eines DVD-Workshops\n• Umgang mit entstehenden Herausforderungen und Spannungen in der Begleitung der Kurs-Teilnehmenden \nZielgruppe\n• Ihr habt den Wunsch\, die Berufung und das Herz\, Ehepaaren zu dienen und die Kultur des LAM1 DVD-Workshops in eure Gemeinde zu bringen\n• Ihr versteht euch als Ansprechpartner/ Leiter eurer Gemeinde für die Ehe-Arbeit und wollt die Inhalte von Liebe in der Ehe multiplizieren \nVoraussetzungen\n• Ihr habt bereits an einem LAM1-Workshop teilgenommen\n• Ihr habt bereits ein Spirit Connection-Training absolviert oder werdet zum nächstmöglichen Zeitpunkt ein Training besuchen\n• Ihr habt die Bereitschaft\, an eurem eigenen Leben und eurer Ehe weiterzuarbeiten\n• Eine enge Abstimmung mit eurer Gemeindeleitung ist für euch selbstverständlich\n• Verbindliche Teilnahme an allen Modulen plus Zeitaufwand für die Vertiefung zwischen den einzelnen Einheiten\n• Teilnahme ist nur als Ehepaar möglich \nInhalte des Trainings\nNähere Informationen werden in Kürze bereitgestellt. \nDauer\, Format und Ort\nImmer Montagabend von 19:30 Uhr bis 21:50 Uhr – alle 2 Wochen \nOnline über Zoom \nBeginn: Montag\, 26.01.2026\nEnde: Montag\, 27.04.2026 \nTermine:\n26.01.2026\n02.02.2026\n16.02.2026\n02.03.2026\n16.03.2026\n30.03.2026\n13.04.2026\n27.04.2026 \nplus einen Präsenztag:\nSamstag\, 07.03.2026 von ca. 10 Uhr – 17 Uhr bei Nut & Feder – The Place of Encounter\, 63303 Dreieich\, Deutschland\nGebühren für den Präsenztag: Pro Ehepaar vor Ort: ca. 75 Euro (Mittagessen\, Getränke\, Kaffee und Snacks inbegriffen) \nHybrid-Angebot: Für alle\, die durch eine weite Anreise nicht vor Ort teilnehmen können\, werden wir die Veranstaltung online übertragen. Wir planen für die Teilnehmenden aus der Schweiz für diesen Tag einen separaten Veranstaltungsort. Weitere Informationen folgen. \nKosten\n100 Euro pro Ehepaar zzgl. Kosten für den Präsenztag (sofern nicht online). \nWie könnt ihr euch bewerben?\nBitte füllt das folgende Fromular aus: Bewerbung LAM1-Multiplikatoren Training\nAnmeldeschluss ist der 04.01.2026. \nFragen\nFalls ihr Fragen habt\, könnt ihr euch gerne per E-Mail an info@nothinghidden.de wenden.
URL:https://nothinghidden.ch/index.php/event/lam1-multiplikatoren-training-2026/
LOCATION:Zuhause Online
CATEGORIES:LAM (Liebe in der Ehe),Specials
ATTACH;FMTTYPE=image/jpeg:https://nothinghidden.ch/wp-content/uploads/2025/09/Multiplikatoren-Training-neu-Newsletter.jpg
ORGANIZER;CN="NHM-Deutschland":MAILTO:martin_bettyh@nothinghidden.com
END:VEVENT
BEGIN:VEVENT
DTSTART;TZID=Europe/Berlin:20260417T100000
DTEND;TZID=Europe/Berlin:20260420T170000
DTSTAMP:20260420T124402
CREATED:20250920T115653Z
LAST-MODIFIED:20250920T120016Z
UID:1871-1776420000-1776704400@nothinghidden.ch
SUMMARY:Liebe in der Ehe (LAM)-Workshop Rümlang
DESCRIPTION:Zu dem Menschen\, zu dem wir «Ja» für das ganze Leben gesagt haben\, wünschen wir uns eine tiefe Beziehung\, geprägt von Intimität und Vertrauen. Das ist Gottes Herzschlag für unsere Ehen. \nEgal ob ihr eine glückliche Beziehung führt oder ob Mauern in eurer Ehe vorhanden sind\, die Leid\, Frustration und Schmerz verursachen – es gibt\nHoffnung und Gutes zu entdecken! \nZusammen mit anderen Ehepaaren werdet ihr erleben\, wie Gott euch durch den Heiligen Geist die Verbundenheit schenkt\, von der ihr in eurer Ehe träumt. \nWir werden in diesem Workshop … \n\nSchlüsselthemen anschauen\, die geistliche\, emotionale und sexuelle Einheit fördern\nGottes Perspektive und Gedanken zur Sexualität betrachten\nDas Gelernte im Alltag anwenden\n\n  \nDaten: \n17.-20. April 2026 \n  \nZeiten: \nFr           10:00 – ca. 18:30 Uhr \nSa+So   09:00 – ca. 18:30 Uhr \nMo         09:00 – ca. 17:00 Uhr \n  \nKosten: \nCHF 720.- pro Ehepaar\ninkl. Unterlagen und Verpflegung\n(Snacks\,Getränke\,Mittagessen) \n  \nAnmeldung: \nVineyard Zürich: Anmeldung LAM Rümlang 2026 \nOnline bis 31. März 2026\nspätere Anmeldung nur auf Anfrage \n  \nOrt: \nViva Kirche Rümlang\nKatzenrütistrasse 2\n8153 Rümlang \n  \nWeitere Infos: \n2026_Infos_und_Anmeldung_LAM_Vivakirche_ZH.pdf \nVineyard Zürich: Love After Marriage
URL:https://nothinghidden.ch/index.php/event/liebe-in-der-ehe-lam-workshop-ruemlang/
LOCATION:Viva Kirche Rümlang\, Katzenrütistrasse 2\, Rümlang\, Zürich\, 8153\, Switzerland
CATEGORIES:LAM (Liebe in der Ehe),LAM Intensiv Workshops (1 & 2)
ATTACH;FMTTYPE=application/pdf:https://nothinghidden.ch/wp-content/uploads/2025/09/2026-Flyer-LAM-Vivakirche-ZH.pdf
ORGANIZER;CN="Viva Kirche R%C3%BCmlang":MAILTO:kontakt@vivakirche-ruemlang.ch
END:VEVENT
BEGIN:VEVENT
DTSTART;TZID=Europe/Berlin:20260719T080000
DTEND;TZID=Europe/Berlin:20260724T170000
DTSTAMP:20260420T124402
CREATED:20250920T122309Z
LAST-MODIFIED:20251124T200944Z
UID:1882-1784448000-1784912400@nothinghidden.ch
SUMMARY:Liebe in der Familie (LIF)-Camp ETG Erlen
DESCRIPTION:Die Tools und Elemente von LAM (Liebe in der Ehe) für die ganze Familie!\nEin Familiencamp der besonderen Art für Familien mit Kindern ab 6 Jahren. Eine Mischung aus Seminar und Freizeit\, mit Tools von LAM (Liebe in der Ehe) altersgerecht für die ganze Familie. Eine Kombination von erlebnispädagogischen Aktivitäten\, Familienzeiten und Lagerfeueratmosphäre. \nIhr werdet in dieser Woche …\no  Elemente kennenlernen\, die Ehe und Familie auf eine höhere Ebene der Kommunikation und Freude führen \no  sehen\, wie Ehen und Familien Durchbrüche erleben und geheilt werden und erfahren\, wie Hindernisse in der Beziehung überwunden werden können \no  Werkzeuge erhalten\, wie man mit dem Heiligen Geist durch Konflikte geht \no  Schritte zur Vergebung und Versöhnung kennenlernen \no  viel Gemeinschaft\, Spass und Action erleben \nÜbernachtung\nIm eigenen Zelt\, Wohnwagen oder Wohnmobil \nAnmeldung\nDirekt über die Website der ETG Erlen www.buchwiesen.church \nFlyer zum Download \nKosten\nCHF 800 pro Familie\, pauschal
URL:https://nothinghidden.ch/index.php/event/liebe-in-der-familie-lif-camp-etg-erlen/
LOCATION:Buchwiesengemeinde ETG Erlen\, Buchwiesenstrasse 3\, Erlen\, TG\, 8586\, Switzerland
CATEGORIES:LIF (Liebe in der Familie)
ATTACH;FMTTYPE=image/jpeg:https://nothinghidden.ch/wp-content/uploads/2025/11/LiF-Banner.jpg
END:VEVENT
BEGIN:VEVENT
DTSTART;TZID=Europe/Berlin:20260822T100000
DTEND;TZID=Europe/Berlin:20270122T214500
DTSTAMP:20260420T124402
CREATED:20260402T173142Z
LAST-MODIFIED:20260402T175744Z
UID:1999-1787392800-1800654300@nothinghidden.ch
SUMMARY:LAM DVD-Workshop in Luzern - Vorankündigung
DESCRIPTION:WILLKOMMEN AUF EINER REISE IN EINE TIEFERE EMOTIONALE\, GEISTLICHE UND KÖRPERLICHE INTIMITÄT\nWiederherstellung und Veränderung eurer Ehe ist möglich! \nIn diesem Kurs werden Ehepaare ausgerüstet\, eine Beziehung zu leben\, die geprägt ist von Offenheit\, Vertrauen und Liebe. Übernatürliche Durchbrüche\, Kraft und Salbung gehören dazu\, damit eure Ehe zu all dem wird\, was sie in Gottes Augen sein kann! Egal\, ob ihr eine tolle Ehe führt oder ob ihr wisst\, dass an eurer Ehe gearbeitet werden muss … Egal\, ob ihr 2 Monate oder 40 Jahre verheiratet seid … dies ist eine gute Gelegenheit\, euch von Gott helfen zu lassen\, den Himmel auf Erden in eurer Ehe zu erleben. \nKursdaten\nSa\, 22.08.26 | 10.00-17.00 Uhr\nFr\, 28.08.26 | 19.15-21.45 Uhr\nFr\, 11.09.26 | 19.15-21.45 Uhr\nFr\, 18.09.26 | 19.15-21.45 Uhr\nFr\, 16.10.26 | 19.15-21.45 Uhr\nFr\, 23.10.26 | 19.15-21.45 Uhr\nSa\, 31.10.26 | 09.30-15.30 Uhr\nFr\, 06.11.26 | 19.15-21.45 Uhr\nFr\, 13.11.26 | 19.15-21.45 Uhr\nFr\, 20.11.26 | 19.15-21.45 Uhr\nFr\, 27.11.26 | 19.15-21.45 Uhr\nFr\, 04.12.26 | 19.15-21.45 Uhr\nFr\, 11.12.26 | 19.15-21.45 Uhr\nFr\, 18.12.26 | 19.15-21.45 Uhr\nSa\, 09.01.27 | 09.30-15.30 Uhr\nFr\, 22.01.27 | 19.15-21.45 Uhr \nWeitere Infos und Anmeldung\nhttps://zollhaus.ch/ehe#lam
URL:https://nothinghidden.ch/index.php/event/lam-dvd-workshop-in-luzern-vorankuendigung/
LOCATION:Zollhaus Luzern\, Zollhausstrasse 1\, Luzern\, 6015\, Switzerland
CATEGORIES:LAM (Liebe in der Ehe),LAM DVD Workshops
ATTACH;FMTTYPE=image/jpeg:https://nothinghidden.ch/wp-content/uploads/2020/07/couple-man-and-woman-near-grass-field-1415131-scaled.jpg
END:VEVENT
BEGIN:VEVENT
DTSTART;TZID=Europe/Berlin:20260911T090000
DTEND;TZID=Europe/Berlin:20260912T173000
DTSTAMP:20260420T124402
CREATED:20251222T172033Z
LAST-MODIFIED:20260223T193116Z
UID:1940-1789117200-1789234200@nothinghidden.ch
SUMMARY:Spirit Connection Training in Männedorf
DESCRIPTION:Spirit Connection Training\nSo viele Christen sehnen sich danach\, in ihrer gottgegebenen Identität und Berufung zu leben und doch kämpfen sie immer wieder in bestimmten Bereichen ihres Lebens – ganz persönlich\, in ihrer Verbindung zu Gott\, in ihrer Ehe oder in anderen bedeutenden Beziehungen. Spirit Connection kann dabei helfen\, die negativen Muster und Gefühle zu überwinden. \nDer Name Spirit Connection weist auf das wichtigste und kraftvollste Element dieses Dienstes hin – auf die Verbindung mit dem Heiligen Geist. Wenn unser Geist mit dem Heiligen Geist verbunden ist\, von Ihm hört und von Ihm geführt wird\, leitet dieser uns entsprechend an\, um die Heilung\, die Jesus für uns hat\, zu empfangen. \nAuf einem Spirit Connection Training werden die Tools\, die auf den Workshops „Love after Marriage” (LAM) und dem „Single Life Workshop” (SLW) erarbeitet wurden\, weiter vertieft und zu diesem Modell der inneren Heilung zusammengeführt. Während dem Training werden die Teilnehmenden selber Befreiung und Heilung von Jesus erfahren und gleichzeitig lernen\, wie sie anderen Menschen dienen und sie in eine Begegnung mit Jesus führen können. \nBarry und Lori Byrne haben diese Methode zur Inneren Heilung auf Basis von mehr als 30 Jahren Erfahrung in der Ehe- und Familientherapie entwickelt. \nFür wen ist das Spirit Connection Training\nDas Spirit Connection-Training ist für alle\, die LAM-DVD- oder SLW-Workshops oder -Hauskreise leiten oder leiten möchten\, bzw. die NHM-Werkzeuge vermehrt in ihren Beziehungen bzw. in ihrer eigenen Ehe anwenden möchten. Voraussetzung ist jeweils die erfolgte Teilnahme an einem LAM 1- bzw. SLW-Workshop (Wochenkurs oder intensiv).\nDas Ziel dieses Trainings ist\, dass ihr selbständig anderen Personen mit einer Spirit Connection dienen könnt.\n \nOrt\nGästehaus elcasa männedorf\, Hofenstrasse 41\, 8708 Männedorf \nLeitung\nDas Leitungsteam von NHM Schweiz \nDaten\nFreitag\, 11. September 2026\, 09:00 Uhr bis 21:00 Uhr \nSamstag\, 12. September 2026\, 09:00 Uhr bis 17:30 Uhr \nAm Samstagabend\, 12. und Sonntag\, 13. September 2026\, findet der Freundestag statt. \nPreise in CHF\nSpirit Connection Training und Freundestag (2 Übernachtungen): Freitag/Samstag/Sonntag\, Vollpension: DZ 328 p.P. / EZ 388 p.P. \nNur Spirit Connection Training (ohne Freundestag\, 1 Übernachtung): Freitag/Samstag\, Vollpension (ohne Abendessen am Samstagabend): DZ 199 p.P. / EZ 229 p.P. \nFlyer\nDer Flyer steht hier zum Download bereit. \nAnmeldung\nDie Anmeldung erfolgt über diesen Link. \nAnmeldeschluss ist der 9. Juni 2026 \nEs gibt unterschiedliche Zimmerkategorien. Die Zuteilung erfolgt in der Reihenfolge der Anmeldung. Es lohnt sich also\, früh zu buchen.
URL:https://nothinghidden.ch/index.php/event/spirit-connection-training-in-maennedorf/
LOCATION:elcasa männedorf\, Hofenstrasse 41\, Männedorf\, ZH\, 8708
CATEGORIES:SC Training,Spirit Connection Training
ATTACH;FMTTYPE=image/png:https://nothinghidden.ch/wp-content/uploads/2022/11/Spirit_Connection_NL.png
ORGANIZER;CN="NHM Schweiz":MAILTO:events@nothinghidden.ch
END:VEVENT
BEGIN:VEVENT
DTSTART;TZID=Europe/Berlin:20260912T180000
DTEND;TZID=Europe/Berlin:20260913T160000
DTSTAMP:20260420T124402
CREATED:20251222T181815Z
LAST-MODIFIED:20260223T200849Z
UID:1950-1789236000-1789315200@nothinghidden.ch
SUMMARY:NHM Freundestag in Männedorf
DESCRIPTION:Herzliche Einladung zum NHM-Schweiz Freundestag\nIm Anschluss an das Spirit Connection Training vom 11./12. September 2026 findet in Männedorf ein Freundestag statt. \nWir wollen die Himmlische Beziehungskultur fördern\, einander begegnen\, kennenlernen\, voneinander hören\, vernetzen. \nZielgruppe: Leiter und Verantwortliche von LAM- oder SLW-Workshops und all jene\, die daran interessiert sind. \nDatum\nSamstagabend\, 12. September 2026\, 18:00 bis … (mit Abendessen und Übernachtung) \nSonntag\, 13. September 2026\, 09:00 bis 16:00 Uhr – Es besteht auch die Möglichkeit\, bloss am Sonntag teilzunehmen. \nOrt\nGästehaus elcasa männedorf\, Hofenstrasse 41\, 8708 Männedorf \nPreise in CHF\nFreundestag (mit 1 Übernachtung): Samstag/Sonntag\, Vollpension: DZ 149 p.P. / EZ 179 p.P. \nFür die Teilnahme nur am Sonntag fallen die Kosten für das Mittagessen (30) an. \nFlyer\nDer Flyer steht hier zum Download bereit. \nAnmeldung\nDie Anmeldung erfolgt über diesen Link. \nAnmeldeschluss ist der 9. Juni 2026 \nEs gibt unterschiedliche Zimmerkategorien. Die Zuteilung erfolgt in der Reihenfolge der Anmeldung. Es lohnt sich also\, früh zu buchen.
URL:https://nothinghidden.ch/index.php/event/nhm-freundestag-in-maennedorf/
LOCATION:elcasa männedorf\, Hofenstrasse 41\, Männedorf\, ZH\, 8708
CATEGORIES:Sonstige
ATTACH;FMTTYPE=image/jpeg:https://nothinghidden.ch/wp-content/uploads/2025/12/Haende_mit_Herz.jpg
ORGANIZER;CN="NHM Schweiz":MAILTO:events@nothinghidden.ch
END:VEVENT
BEGIN:VEVENT
DTSTART;TZID=Europe/Berlin:20261001T090000
DTEND;TZID=Europe/Berlin:20261004T170000
DTSTAMP:20260420T124402
CREATED:20250920T121845Z
LAST-MODIFIED:20251223T104132Z
UID:1880-1790845200-1791133200@nothinghidden.ch
SUMMARY:Liebe in der Ehe 2 (LAM 2)-Workshop Gwatt bei Thun
DESCRIPTION:Es geht weiter…\nFür alle Ehepaare\, die schon an einem „Liebe in der Ehe“-Workshop (LAM) teilgenommen haben\, ist dies eine Erweiterung und Fortsetzung. Es gibt immer mehr – auch für die Verbundenheit in unserer Ehe! Wir möchten dranbleiben\, Bekanntes vertiefen\, neue Inspirationen bekommen\, in neue Dimensionen eintreten. \nWir werden in diesem Workshop…\n• in die gemeinsame Berufung aufbrechen\n• bereits Gelerntes vertiefen\n• neue Inspiration erhalten \nSchwerpunkte in diesem Workshop\n• Wir wollen mehr!\n• Experten für Versöhnung werden\n• Was sind eure Träume (als Ehepaar)?\n• Gottgefälliges Trauern\n• Tiefere Intimität\n• Neue Dimensionen von Sexualität u.v.a. \nDaten\n1. bis 4. Oktober 2026 \nWorkshopzeiten\nDo\, 01.10.26: 09:00 – ca. 18:30 (09:00 Ankunft und Check-in\, Beginn 09:30)\nFr\, 02.10.26: 09:00 – ca. 18:30\nSa\, 03.10.26: 09:00 – ca. 18:30\nSo\, 04.10.26: 09:00 – ca. 17:00 \nDie Essenszeiten dienen der Vertiefung der Gemeinschaft und werden gemeinsam in den Tischgruppen eingenommen. \nOrt\nIn den Räumen der Läbeswärchstatt Thun\nMoosweg 5\, 3645 Gwatt bei Thun \nKosten\nCHF 750 pro Ehepaar\ninkl. Material\, Mittagessen\, Snacks und Getränke für die gesamte Dauer des Workshops \nAnmeldung\nÜber diesen Link direkt bei der Läbeswärchstatt Thun\nAnmeldeschluss: 15. September 2026\n(danach nur noch auf Anfrage; die Teilnehmerzahl ist beschränkt) \nEine Kinderbetreuung während des Workshops wird nicht angeboten. \nWeitere Informationen\nLAM-2-1.-4.-Oktober-2026-Laebeswaerchstatt-Thun.pdf \nFlyer zum Weitergeben.
URL:https://nothinghidden.ch/index.php/event/liebe-in-der-ehe-2-lam-2-workshop-gwatt-bei-thun/
LOCATION:Läbeswärchstatt Thun\, Moosweg 5\, Gwatt (Thun)\, BE\, 3645\, Switzerland
CATEGORIES:LAM (Liebe in der Ehe),LAM 2,LAM Intensiv Workshops (1 & 2)
ATTACH;FMTTYPE=image/jpeg:https://nothinghidden.ch/wp-content/uploads/2025/12/Paar_im_Gegenlicht-e1766486309126.jpg
END:VEVENT
BEGIN:VEVENT
DTSTART;TZID=Europe/Berlin:20261104T100000
DTEND;TZID=Europe/Berlin:20261107T170000
DTSTAMP:20260420T124402
CREATED:20250920T121044Z
LAST-MODIFIED:20251225T125941Z
UID:1877-1793786400-1794070800@nothinghidden.ch
SUMMARY:Liebe in der Ehe (LAM)-Workshop ETG Erlen
DESCRIPTION:Zu dem Menschen\, zu dem wir «Ja» für das ganze Leben gesagt haben\, wünschen wir uns eine tiefe Beziehung\, geprägt von Intimität und Vertrauen. Das ist Gottes Herzschlag für unsere Ehen. \nEgal ob ihr eine glückliche Beziehung führt oder ob Mauern in eurer Ehe vorhanden sind\, die Leid\, Frustration und Schmerz verursachen – es gibt Hoffnung und Gutes zu entdecken! \nZusammen mit anderen Ehepaaren werdet ihr erleben\, wie Gott euch durch den Heiligen Geist die Verbundenheit schenkt\, von der ihr in eurer Ehe träumt. \nSchwerpunkte in diesem Workshop:\n– Schlüsselthemen\, die geistliche\, emotionale und sexuelle Einheit fördern\n– Einfache\, praktische Tools zur Kommunikation und Gestaltung der Beziehung\n– Gottes Perspektive und Gedanken zur Sexualität\n– Praktische Übungen zu Konfliktbewältigung\, Vergebung und Versöhnung\n– Aufdecken von Blockaden\, die eine tiefere Beziehung verhindern\n– Im sicheren Rahmen einer Kleingruppe praktisch werden\n– Das Gelernte im Alltag anwenden \nDaten\n4. bis 7. November 2026 \nWorkshopzeiten\nMi\, 04.11.26: 10:00 – ca. 18:30\nDo\, 05.11.26: 09:00 – ca. 18:30\nFr\, 06.11.26: 09:00 – ca. 18:30\nSa\, 07.11.26: 09:00 – ca. 17:00 \nDie Essenszeiten dienen der Vertiefung der Gemeinschaft und werden gemeinsam in den Tischgruppen eingenommen. \nOrt\nBuchwiesengemeinde ETG Erlen\nBuchwiesenweg 3\, 8586 Erlen \nKosten\nCHF 650 pro Ehepaar\ninkl. Material\, Mittagessen\, Snacks und Getränke für die gesamte Dauer des Workshops \nAnmeldung\nÜber diesen Link direkt bei der Buchwiesengemeinde ETG Erlen\nAnmeldeschluss: 4. Oktober 2026\n(danach nur noch auf Anfrage; die Teilnehmerzahl ist beschränkt) \nEine Kinderbetreuung während des Workshops wird nicht angeboten. \nZum Weitergeben\nFlyer
URL:https://nothinghidden.ch/index.php/event/liebe-in-der-ehe-lam-workshop-etg-erlen/
LOCATION:Buchwiesengemeinde ETG Erlen\, Buchwiesenstrasse 3\, Erlen\, TG\, 8586\, Switzerland
CATEGORIES:LAM (Liebe in der Ehe),LAM Intensiv Workshops (1 & 2)
ATTACH;FMTTYPE=image/jpeg:https://nothinghidden.ch/wp-content/uploads/2025/09/LAM_ETGErlen2026_Image.jpeg
END:VEVENT
END:VCALENDAR